BEGIN:VCALENDAR
VERSION:2.0
PRODID:-//ZeroWaste//Events//EN
BEGIN:VEVENT
DTSTART:20260220T220000Z
DTEND:20260221T000000Z
DTSTAMP:20260421T090715Z
UID:event-5@zerowaste.org
SUMMARY:Zero Waste Week Celebration + Screen Printing 
DESCRIPTION:Come celebrate the end of zero waste week with free food from Earthen Jar, and chance to meet other challenge members and screen print your very own Zero Waste Week shirt or bag! Bring the trash you collected during the week to reflect on your consumption habits!
LOCATION:1st Floor Commons, Dana Building, 440 Church St, Ann Arbor, MI 48109
END:VEVENT
END:VCALENDAR